BEGIN:VCALENDAR
VERSION:2.0
PRODID:christinnen.gruene-nrw-lag.de
METHOD:PUBLISH
BEGIN:VTIMEZONE
TZID:Europe/Berlin
X-LIC-LOCATION:Europe/Berlin
BEGIN:DAYLIGHT
TZOFFSETFROM:+0100
TZOFFSETTO:+0200
TZNAME:CEST
DTSTART:19700329T020000
RRULE:FREQ=YEARLY;INTERVAL=1;BYDAY=-1SU;BYMONTH=3
END:DAYLIGHT
BEGIN:STANDARD
TZOFFSETFROM:+0200
TZOFFSETTO:+0100
TZNAME:CET
DTSTART:19701025T030000
RRULE:FREQ=YEARLY;INTERVAL=1;BYDAY=-1SU;BYMONTH=10
END:STANDARD
END:VTIMEZONE
BEGIN:VEVENT
UID:820a8fb4eaa01b233cc2ec79a9612d0a@christinnen.gruene-nrw-lag.de
URL;VALUE=URI:https://christinnen.gruene-nrw-lag.de/termine/lag-sitzung-i
 m-juni/
LOCATION:Goldbergstraße 17, 58095 Hagen
SUMMARY:LAG Sitzung im Juni
DESCRIPTION;ALTREP="data:text/html,Wir%20treffen%20uns%20in%20der%20Kreis
 gesch%C3%A4ftsstelle%20der%20GR%C3%9CNEN%20in%20Hagen.%20Thema%20wird%20u
 .a.%20die%20Finanzierung%20von%20Religionsgemeinschaften%20und%20religi%C
 3%B6sen%20Vereinen%20sein.":Wir treffen uns in der Kreisgeschäftsstelle 
 der GRÜNEN in Hagen. Thema wird u.a. die Finanzierung von Religionsgemei
 nschaften und religiösen Vereinen sein.
CLASS:PUBLIC
DTSTART;TZID=Europe/Berlin:20190629T140000
DTEND;TZID=Europe/Berlin:20190629T160000
DTSTAMP:20260425T004748
END:VEVENT
END:VCALENDAR